BEGIN:VCALENDAR
VERSION:2.0
PRODID:-//PAJ Antequera Oaxaca - ECPv6.15.20//NONSGML v1.0//EN
CALSCALE:GREGORIAN
METHOD:PUBLISH
X-ORIGINAL-URL:https://pastoraljuveniloaxaca.org
X-WR-CALDESC:Events for PAJ Antequera Oaxaca
REFRESH-INTERVAL;VALUE=DURATION:PT1H
X-Robots-Tag:noindex
X-PUBLISHED-TTL:PT1H
BEGIN:VTIMEZONE
TZID:Europe/Madrid
BEGIN:DAYLIGHT
TZOFFSETFROM:+0100
TZOFFSETTO:+0200
TZNAME:CEST
DTSTART:20240331T010000
END:DAYLIGHT
BEGIN:STANDARD
TZOFFSETFROM:+0200
TZOFFSETTO:+0100
TZNAME:CET
DTSTART:20241027T010000
END:STANDARD
BEGIN:DAYLIGHT
TZOFFSETFROM:+0100
TZOFFSETTO:+0200
TZNAME:CEST
DTSTART:20250330T010000
END:DAYLIGHT
BEGIN:STANDARD
TZOFFSETFROM:+0200
TZOFFSETTO:+0100
TZNAME:CET
DTSTART:20251026T010000
END:STANDARD
BEGIN:DAYLIGHT
TZOFFSETFROM:+0100
TZOFFSETTO:+0200
TZNAME:CEST
DTSTART:20260329T010000
END:DAYLIGHT
BEGIN:STANDARD
TZOFFSETFROM:+0200
TZOFFSETTO:+0100
TZNAME:CET
DTSTART:20261025T010000
END:STANDARD
BEGIN:DAYLIGHT
TZOFFSETFROM:+0100
TZOFFSETTO:+0200
TZNAME:CEST
DTSTART:20270328T010000
END:DAYLIGHT
BEGIN:STANDARD
TZOFFSETFROM:+0200
TZOFFSETTO:+0100
TZNAME:CET
DTSTART:20271031T010000
END:STANDARD
END:VTIMEZONE
BEGIN:VTIMEZONE
TZID:America/Mexico_City
BEGIN:STANDARD
TZOFFSETFROM:-0600
TZOFFSETTO:-0600
TZNAME:CST
DTSTART:20240101T000000
END:STANDARD
END:VTIMEZONE
BEGIN:VEVENT
DTSTART;TZID=Europe/Madrid:20260221T100000
DTEND;TZID=Europe/Madrid:20260222T150000
DTSTAMP:20260421T121950
CREATED:20260213T162226Z
LAST-MODIFIED:20260213T162226Z
UID:2530-1771668000-1771772400@pastoraljuveniloaxaca.org
SUMMARY:Pre Pascua Diocesana 2026
DESCRIPTION:Tu participación es importante para llevar a tu comunidad el mensaje de la Pascua Juvenil este año. \n\n\nAún estás a tiempo para inscribirte\, mándanos mensaje. \n\n\nhttps://forms.gle/35EitgzXGvYGDjbz9\n\n\n Las inscripciones ya están abiertas \n\n\nSi tienes dudas\, puedes comunicarte con el equipo del SEDIJ.\n\n\nPronto más información. \n\n\n¡Cristo Vive! Con Él somos esperanza.
URL:https://pastoraljuveniloaxaca.org/evento/pre-pascua-diocesana-2026/
LOCATION:Misioneras de la Evangelización\, Surcos Largos no. 110\, San Francisco Tutla.\, Oaxaca\, Mexico
CATEGORIES:Talleres
END:VEVENT
BEGIN:VEVENT
DTSTART;TZID=Europe/Madrid:20260124T120000
DTEND;TZID=Europe/Madrid:20260124T160000
DTSTAMP:20260421T121950
CREATED:20260121T223214Z
LAST-MODIFIED:20260121T225551Z
UID:2433-1769256000-1769270400@pastoraljuveniloaxaca.org
SUMMARY:REUNIÓN DE CONSEJO DE PASTORAL JUVENIL
DESCRIPTION:  \nCon alegría les invitamos a participar en la primera reunión de Consejo Diocesano del 2026\, que se llevará a cabo el sábado 24 de enero a partir del medio día. \nLa presencia de cada uno es fundamental\, pues su voz\, experiencia y misión en sus comunidades\, son parte del camino que construiremos juntos este año. \nNos vemos ahí! \n  \nAlgunos temas que profundizaremos: \n\nEstructura de la Pastoral Juvenil a nivel nacional y en nuestra Arquidiócesis de Antequera.\nNazareth\, el camino de la Ruta 2031+2033.\nLos subsidios > Diseño\, propósito y trabajo en comunidad.\nCalendario de actividades la PJ en 2026.\nLa presencia del Secretariado Diocesano Juvenil en los decanatos.
URL:https://pastoraljuveniloaxaca.org/evento/reunion-de-consejo-de-pastoral-juvenil/
LOCATION:Centro Regional Femenil Nuestra Señora de la Soledad\, privada del kilómetro 540 panzacola\, Carr. Internacional 109\, Santa Rosa Panzacola\, Oaxaca de Juárez\, Oax.\, Oaxaca de Juárez\, Oaxaca\, Mexico
CATEGORIES:Organización y Liderazgo
END:VEVENT
BEGIN:VEVENT
DTSTART;VALUE=DATE:20251115
DTEND;VALUE=DATE:20251116
DTSTAMP:20260421T121950
CREATED:20250725T212109Z
LAST-MODIFIED:20250725T213022Z
UID:222-1763164800-1763251199@pastoraljuveniloaxaca.org
SUMMARY:ORATIO JUVENIL Y MISA
DESCRIPTION:Acompáñanos en nuestro penúltimo encuentro de oración del año. La Oratio Juvenil y Misa de noviembre será en la Parroquia de San Juan Bautista\, en San Juan Chapultepec. Una oportunidad para agradecer y fortalecer nuestro espíritu antes de las fiestas de fin de año.
URL:https://pastoraljuveniloaxaca.org/evento/oratio-juvenil-y-misa-3/
LOCATION:PARROQUIA DE SAN JUAN BAUTISTA (San Juan Chapultepec)
CATEGORIES:Formación y Vida Espiritual
END:VEVENT
BEGIN:VEVENT
DTSTART;TZID=America/Mexico_City:20251107T160000
DTEND;TZID=America/Mexico_City:20251107T200000
DTSTAMP:20260421T121950
CREATED:20251015T184004Z
LAST-MODIFIED:20251015T184004Z
UID:1325-1762531200-1762545600@pastoraljuveniloaxaca.org
SUMMARY:RECEPCIÓN DE LA RELIQUIA DE PRIMER GRADO DE SAN CARLO ACUTIS
DESCRIPTION:¡Oaxaca recibe una visita del cielo!\nEste viernes 7 de noviembre\, llega la reliquia de primer grado de San Carlo Acutis\, el joven que amó profundamente a Jesús Eucaristía. \nNos vemos en el Monumento a Juárez\nA las 4:00 p.m. iniciamos \nContaremos con la presencia de Mons. Luis Alfonso Tut Tún. \n“No yo\, sino Dios.” – San Carlo Acutis”
URL:https://pastoraljuveniloaxaca.org/evento/recepcion-de-la-reliquia-de-primer-grado-de-san-carlo-acutis/
LOCATION:Misioneras de la Evangelización\, Surcos Largos no. 110\, San Francisco Tutla.\, Oaxaca\, Mexico
END:VEVENT
BEGIN:VEVENT
DTSTART;VALUE=DATE:20251025
DTEND;VALUE=DATE:20251026
DTSTAMP:20260421T121950
CREATED:20250725T212029Z
LAST-MODIFIED:20251015T184212Z
UID:220-1761350400-1761436799@pastoraljuveniloaxaca.org
SUMMARY:ROSARIO MISIONERO EN VIVO
DESCRIPTION:En el mes de las misiones\, nos unimos en oración a través del Rosario Misionero. Esta actividad se llevará a cabo en una transmisión en vivo a través de nuestra página de Facebook. Oremos juntos por los misioneros y por la evangelización en los cinco continentes.
URL:https://pastoraljuveniloaxaca.org/evento/rosario-misionero/
LOCATION:VIA FACEBOOK LIVE
CATEGORIES:Grandes Eventos Diocesanos,Transmisiones en vivo
END:VEVENT
BEGIN:VEVENT
DTSTART;VALUE=DATE:20251018
DTEND;VALUE=DATE:20251019
DTSTAMP:20260421T121950
CREATED:20251015T181218Z
LAST-MODIFIED:20251015T184146Z
UID:1307-1760745600-1760831999@pastoraljuveniloaxaca.org
SUMMARY:TRANSMISIÓN EN VIVO PREVIO AL DOMUND 2025
DESCRIPTION:¡Este sábado nos estaremos saludando en vivo!\nConéctate en punto de las 5 de la tarde\, nos pondremos al día sobre el #DOMUND25 previo a nuestro rosario misionero; compartiremos algunas experiencias en la misión\, ¿tú también tienes anécdotas por contar?
URL:https://pastoraljuveniloaxaca.org/evento/transmision-en-vivo-previo-al-domund-2025/
LOCATION:VIA FACEBOOK LIVE
CATEGORIES:Transmisiones en vivo
END:VEVENT
BEGIN:VEVENT
DTSTART;TZID=Europe/Madrid:20250920T080000
DTEND;TZID=Europe/Madrid:20250920T170000
DTSTAMP:20260421T121950
CREATED:20250725T211947Z
LAST-MODIFIED:20250725T212954Z
UID:217-1758355200-1758387600@pastoraljuveniloaxaca.org
SUMMARY:ORATIO JUVENIL Y MISA
DESCRIPTION:Continuamos con nuestros encuentros de oración mensuales. En septiembre\, la Oratio Juvenil y Misa se celebrará en la Parroquia del Sagrado Corazón de Jesús (INFONAVIT 1 de mayo). Un espacio para detenernos\, orar y celebrar la Eucaristía juntos. ¡Te esperamos para compartir este momento de fe!
URL:https://pastoraljuveniloaxaca.org/evento/oratio-juvenil-y-misa-2/
LOCATION:PARROQUIA DEL SAGRADO CORAZON DE JESÚS (INFONAVID 1 de mayo)
CATEGORIES:Formación y Vida Espiritual
END:VEVENT
BEGIN:VEVENT
DTSTART;TZID=Europe/Madrid:20250823T080000
DTEND;TZID=Europe/Madrid:20250823T170000
DTSTAMP:20260421T121950
CREATED:20250725T211909Z
LAST-MODIFIED:20250725T212945Z
UID:214-1755936000-1755968400@pastoraljuveniloaxaca.org
SUMMARY:ORATIO JUVENIL Y MISA
DESCRIPTION:Te invitamos a un momento de encuentro íntimo con Jesús en nuestra Oratio Juvenil mensual\, seguida de la Santa Misa. Este mes\, la cita es en la Parroquia de Santa Rosa de Lima. Ven a recargar tu espíritu y a compartir en comunidad. ¡No faltes!
URL:https://pastoraljuveniloaxaca.org/evento/oratio-juvenil-y-misa/
LOCATION:PARROQUIA DE SANTA ROSA DE LIMA
CATEGORIES:Formación y Vida Espiritual
END:VEVENT
BEGIN:VEVENT
DTSTART;VALUE=DATE:20250817
DTEND;VALUE=DATE:20250818
DTSTAMP:20260421T121950
CREATED:20250725T211832Z
LAST-MODIFIED:20250725T212904Z
UID:211-1755388800-1755475199@pastoraljuveniloaxaca.org
SUMMARY:DÍA NACIONAL DEL JOVEN CATÓLICO
DESCRIPTION:Nos unimos a todos los jóvenes de México para celebrar el Día Nacional del Joven Católico. En cada una de nuestras parroquias se realizarán actividades especiales para conmemorar la importancia de la juventud en la Iglesia. Consulta con tu coordinador de grupo para unirte a la celebración en tu comunidad.
URL:https://pastoraljuveniloaxaca.org/evento/dia-nacional-del-joven-catolico/
LOCATION:TODAS LAS PARROQUIAS
CATEGORIES:Grandes Eventos Diocesanos
END:VEVENT
BEGIN:VEVENT
DTSTART;VALUE=DATE:20250802
DTEND;VALUE=DATE:20250803
DTSTAMP:20260421T121950
CREATED:20250725T211727Z
LAST-MODIFIED:20250725T212853Z
UID:208-1754092800-1754179199@pastoraljuveniloaxaca.org
SUMMARY:JUBILEO DE ADOLESCENTES Y JOVENES
DESCRIPTION:¡El evento diocesano más grande y esperado del año! Nos reuniremos como una sola familia en la Catedral Metropolitana para celebrar nuestra fe\, nuestra alegría y nuestra juventud. Será una jornada inolvidable llena de música\, oración\, encuentro y comunión. ¡Toda la Arquidiócesis está convocada a este gran día de fiesta!
URL:https://pastoraljuveniloaxaca.org/evento/jubileo-de-adolescentes-y-jovenes/
LOCATION:CATEDRAL METROPOLITANA
CATEGORIES:Grandes Eventos Diocesanos
END:VEVENT
END:VCALENDAR